BEGIN:VCALENDAR
VERSION:2.0
PRODID:EVENTFROG//EVENT//ICAL
BEGIN:VEVENT
UID:20260421T180439Z-7450936252101059850@eventfrog.de
DTSTAMP:20260421T180439Z
DTSTART:20260823T100000Z
DTEND:20260823T203000Z
SUMMARY:Dinner in the Sky Hamburg
DESCRIPTION:Geniesse ein exklusives Dinner auf ca. 50 m Höhe mit 360-Grad-Panorama über Köln, Düsseldorf und Hamburg im Sommer 2026.\n\nhttps://eventfrog.de/de/p/essen-trinken/dinner-in-the-sky-hamburg-7450936252101059850.html
LOCATION:Theaterpavillon am Großmarkt
GEO:53.543937;10.014993
URL:https://eventfrog.de/de/p/essen-trinken/dinner-in-the-sky-hamburg-7450936252101059850.html
END:VEVENT
END:VCALENDAR