BEGIN:VCALENDAR
VERSION:2.0
PRODID:EVENTFROG//EVENT//ICAL
BEGIN:VEVENT
UID:20260420T131426Z-7450945555646161775@eventfrog.de
DTSTAMP:20260420T131426Z
DTSTART:20260523T200000Z
DTEND:20260524T020000Z
SUMMARY:No Diggity - 30+ Hip Hop RnB Party  // Le Portier Club Bern
DESCRIPTION:No Diggity - 30+ Hip Hop RnB Party // Samstag 23 Mai 2026 - 22.00 Uhr // Le Portier Club Bern\n\nhttps://eventfrog.de/de/p/partys/hip-hop-rap/no-diggity-30-hip-hop-rnb-party-le-portier-club-bern-7450945555646161775.html
LOCATION:Le Portier Club Bern
GEO:46.949551;7.442535
URL:https://eventfrog.de/de/p/partys/hip-hop-rap/no-diggity-30-hip-hop-rnb-party-le-portier-club-bern-7450945555646161775.html
END:VEVENT
END:VCALENDAR