BEGIN:VCALENDAR
VERSION:2.0
PRODID:EVENTFROG//EVENT//ICAL
BEGIN:VEVENT
UID:20260424T105649Z-7450961009299180355@eventfrog.de
DTSTAMP:20260424T105649Z
DTSTART:20260427T143000Z
DTEND:20260427T160000Z
SUMMARY:Art Talk with Linda Graedel: from LA to the Bundesgericht
DESCRIPTION:ProArte us pleased to invite you to this semester's art talk with Linda Graedel, a courtroom artist and honorary doctorate of the faculty of law at UZH.\n\nhttps://eventfrog.de/en/p/courses-seminars/art-culture/art-talk-with-linda-graedel-from-la-to-the-bundesgericht-7450961009299180355.html
LOCATION:SQUARE HSG
GEO:47.433291;9.374780
URL:https://eventfrog.de/en/p/courses-seminars/art-culture/art-talk-with-linda-graedel-from-la-to-the-bundesgericht-7450961009299180355.html
END:VEVENT
END:VCALENDAR