BEGIN:VCALENDAR
VERSION:2.0
PRODID:EVENTFROG//EVENT//ICAL
BEGIN:VEVENT
UID:20260421T182132Z-7450966525865943317@eventfrog.de
DTSTAMP:20260421T182132Z
DTSTART:20260505T160000Z
DTEND:20260505T200000Z
SUMMARY:Immobilien-Stammtisch Stuttgart TEIL 2
DESCRIPTION:Am 05.05.2026 ab 18 Uhr erklärt Roman Suchy im Immobilien-Stammtisch im LOGINN Hotel PV-Anlagen und Steuererstattungen.\n\nhttps://eventfrog.de/de/p/wissenschaft-und-technik/immobilien-stammtisch-stuttgart-teil-2-7450966525865943317.html
LOCATION:LOGINN Hotel Stuttgart Korntal
GEO:48.828828;9.133657
URL:https://eventfrog.de/de/p/wissenschaft-und-technik/immobilien-stammtisch-stuttgart-teil-2-7450966525865943317.html
END:VEVENT
END:VCALENDAR