BEGIN:VCALENDAR
VERSION:2.0
PRODID:EVENTFROG//EVENT//ICAL
BEGIN:VEVENT
UID:20260422T115127Z-7450977270938730552@eventfrog.de
DTSTAMP:20260422T115127Z
DTSTART:20260605T170000Z
DTEND:20260605T210000Z
SUMMARY:be kind festival day 1
DESCRIPTION:be kind festival: unplugged - come closer - day 1\n\n7:00 PM Duo Kursawe/Rovatkay – Early Music\n8:00 PM Ensemble O – Experimental Vocal Art\n9:00 PM Tilo Weber & Min Yoon – Drums meet Post-/Butoh Dance\n\nhttps://eventfrog.de/de/p/konzerte/weitere-musikrichtungen/be-kind-festival-day-1-7450977270938730552.html
LOCATION:Kiezkapelle Neukölln
GEO:52.469039;13.430069
URL:https://eventfrog.de/de/p/konzerte/weitere-musikrichtungen/be-kind-festival-day-1-7450977270938730552.html
END:VEVENT
END:VCALENDAR