BEGIN:VCALENDAR
VERSION:2.0
PRODID:EVENTFROG//EVENT//ICAL
BEGIN:VEVENT
UID:20260420T062545Z-7450981974854888853@eventfrog.de
DTSTAMP:20260420T062545Z
DTSTART:20260425T051000Z
DTEND:20260425T172400Z
SUMMARY:ESN Bern - Liechtenstein Trip
DESCRIPTION:Explore Liechtenstein with ESN!\nJoin us for a day trip to the sixth-smallest country in the world.\n\nhttps://eventfrog.de/en/p/leisure-excursions/field-trip/esn-bern-liechtenstein-trip-7450981974854888853.html
LOCATION:Städtle Vaduz
GEO:47.141200;9.521295
URL:https://eventfrog.de/en/p/leisure-excursions/field-trip/esn-bern-liechtenstein-trip-7450981974854888853.html
END:VEVENT
END:VCALENDAR