BEGIN:VCALENDAR
VERSION:2.0
PRODID:EVENTFROG//EVENT//ICAL
BEGIN:VEVENT
UID:20260422T114245Z-7450994073421235825@eventfrog.de
DTSTAMP:20260422T114245Z
DTSTART:20260606T170000Z
DTEND:20260606T210000Z
SUMMARY:be kind festival day 2
DESCRIPTION:be kind festival: unplugged - come closer - day \n\n7:00 PM Stormdog – Acoustic Jazz Folk\n8:00 PM Uwe Kropinski Solo – Guitar Visionary\n9:00 PM Ensemble su – Korean Tradition meets Contemporary Jazz\n\nhttps://eventfrog.de/de/p/konzerte/weitere-musikrichtungen/be-kind-festival-day-2-7450994073421235825.html
LOCATION:Kiezkapelle Neukölln
GEO:52.469039;13.430069
URL:https://eventfrog.de/de/p/konzerte/weitere-musikrichtungen/be-kind-festival-day-2-7450994073421235825.html
END:VEVENT
END:VCALENDAR