BEGIN:VCALENDAR
VERSION:2.0
PRODID:EVENTFROG//EVENT//ICAL
BEGIN:VEVENT
UID:20260424T082024Z-7451008373498112738@eventfrog.de
DTSTAMP:20260424T082024Z
DTSTART:20260502T200000Z
DTEND:20260503T020000Z
SUMMARY:MALINKI PARTY — LADY’S NIGHT
DESCRIPTION: OUR CLUB, Zürich  2. Mai (Samstag)\nBeginn: 22:00\nDJ PANAMA\n\nhttps://eventfrog.de/de/p/partys/disco/malinki-party-ladys-night-7451008373498112738.html
LOCATION:Our Club
GEO:47.403632;8.533825
URL:https://eventfrog.de/de/p/partys/disco/malinki-party-ladys-night-7451008373498112738.html
END:VEVENT
END:VCALENDAR