BEGIN:VCALENDAR
VERSION:2.0
PRODID:EVENTFROG//EVENT//ICAL
BEGIN:VEVENT
UID:20260420T012427Z-7451021929325004408@eventfrog.de
DTSTAMP:20260420T012427Z
DTSTART:20260606T220000Z
DTEND:20260607T215900Z
SUMMARY:MINERVA II: FINISSAGE
DESCRIPTION:Rundgang mit KURATOR*IN Kim Anni Bassen durch MINERVA II/IV\n\nhttps://eventfrog.de/de/p/kunst-ausstellungen/minerva-ii-finissage-7451021929325004408.html
LOCATION:Alte Fabrik
GEO:47.233650;8.824440
URL:https://eventfrog.de/de/p/kunst-ausstellungen/minerva-ii-finissage-7451021929325004408.html
END:VEVENT
END:VCALENDAR