BEGIN:VCALENDAR
VERSION:2.0
PRODID:EVENTFROG//EVENT//ICAL
BEGIN:VEVENT
UID:20260420T064515Z-7451027450572571359@eventfrog.de
DTSTAMP:20260420T064515Z
DTSTART:20260426T110000Z
DTEND:20260426T170000Z
SUMMARY:Horst Flohmarkt
DESCRIPTION:Horst Flohmarkt\n\nhttps://eventfrog.de/de/p/diverses/horst-flohmarkt-7451027450572571359.html
LOCATION:Horstklub
GEO:47.647355;9.173559
URL:https://eventfrog.de/de/p/diverses/horst-flohmarkt-7451027450572571359.html
END:VEVENT
END:VCALENDAR