BEGIN:VCALENDAR
VERSION:2.0
PRODID:EVENTFROG//EVENT//ICAL
BEGIN:VEVENT
UID:20260424T084620Z-7451027589945129132@eventfrog.de
DTSTAMP:20260424T084620Z
DTSTART:20260529T173000Z
DTEND:20260529T190000Z
SUMMARY:Organspende - wissenswertes aus medizinischer und ganzheitli
DESCRIPTION:Organspende - medizinisch und ganzheitlich betrachtet.\n\nhttps://eventfrog.de/de/p/wissenschaft-und-technik/organspende-wissenswertes-aus-medizinischer-und-ganzheitli-7451027589945129132.html
LOCATION:Katharinensaal
GEO:47.426949;9.376913
URL:https://eventfrog.de/de/p/wissenschaft-und-technik/organspende-wissenswertes-aus-medizinischer-und-ganzheitli-7451027589945129132.html
END:VEVENT
END:VCALENDAR