BEGIN:VCALENDAR
VERSION:2.0
PRODID:EVENTFROG//EVENT//ICAL
BEGIN:VEVENT
UID:20260425T155452Z-7451027796493620262@eventfrog.de
DTSTAMP:20260425T155452Z
DTSTART:20260712T073000Z
DTEND:20260712T083000Z
SUMMARY:Sommerbühne: Ökumenischer Gottesdienst
DESCRIPTION:Der Gottesdienst mit dem Spirit der Badhütte.\n\nhttps://eventfrog.de/de/p/diverses/sommerbuehne-oekumenischer-gottesdienst-7451027796493620262.html
LOCATION:Schloss Wartegg
GEO:47.478425;9.530131
URL:https://eventfrog.de/de/p/diverses/sommerbuehne-oekumenischer-gottesdienst-7451027796493620262.html
END:VEVENT
END:VCALENDAR