BEGIN:VCALENDAR
VERSION:2.0
PRODID:EVENTFROG//EVENT//ICAL
BEGIN:VEVENT
UID:20260419T182326Z-7451027854769297594@eventfrog.de
DTSTAMP:20260419T182326Z
DTSTART:20260913T114500Z
SUMMARY:Öffentliche Führung durch die Wechselausstellung «Gesicht ze
DESCRIPTION:Öffentliche Führung durch die Wechselausstellung «Gesicht zeigen»\n\nhttps://eventfrog.de/de/p/kunst-ausstellungen/oeffentliche-fuehrung-durch-die-wechselausstellung-gesicht-ze-7451027854769297594.html
LOCATION:Anna Göldi Museum
GEO:47.037301;9.075172
URL:https://eventfrog.de/de/p/kunst-ausstellungen/oeffentliche-fuehrung-durch-die-wechselausstellung-gesicht-ze-7451027854769297594.html
END:VEVENT
END:VCALENDAR