BEGIN:VCALENDAR
VERSION:2.0
PRODID:EVENTFROG//EVENT//ICAL
BEGIN:VEVENT
UID:20260420T142258Z-7451029336650466408@eventfrog.de
DTSTAMP:20260420T142258Z
DTSTART:20260912T120000Z
DTEND:20260912T133000Z
SUMMARY:Öffentliche Stadtführungen Diessenhofen
DESCRIPTION:Öffentliche Stadtführungen Diessenhofen\n\nhttps://eventfrog.de/de/p/wissenschaft-und-technik/oeffentliche-stadtfuehrungen-diessenhofen-7451029336650466408.html
LOCATION:Diessenhofen
GEO:47.685735;8.758211
URL:https://eventfrog.de/de/p/wissenschaft-und-technik/oeffentliche-stadtfuehrungen-diessenhofen-7451029336650466408.html
END:VEVENT
END:VCALENDAR