BEGIN:VCALENDAR
VERSION:2.0
PRODID:EVENTFROG//EVENT//ICAL
BEGIN:VEVENT
UID:20260420T174214Z-7451029336826627198@eventfrog.de
DTSTAMP:20260420T174214Z
DTSTART:20261003T120000Z
DTEND:20261003T133000Z
SUMMARY:Öffentliche Stadtführungen Diessenhofen
DESCRIPTION:Öffentliche Stadtführungen Diessenhofen\n\nhttps://eventfrog.de/de/p/wissenschaft-und-technik/oeffentliche-stadtfuehrungen-diessenhofen-7451029336826627198.html
LOCATION:Diessenhofen
GEO:47.685735;8.758211
URL:https://eventfrog.de/de/p/wissenschaft-und-technik/oeffentliche-stadtfuehrungen-diessenhofen-7451029336826627198.html
END:VEVENT
END:VCALENDAR