BEGIN:VCALENDAR
VERSION:2.0
PRODID:EVENTFROG//EVENT//ICAL
BEGIN:VEVENT
UID:20260425T193232Z-7451029337183143041@eventfrog.de
DTSTAMP:20260425T193232Z
DTSTART:20260522T184500Z
SUMMARY:Sydra
DESCRIPTION:Sydra\n\nhttps://eventfrog.de/de/p/konzerte/sydra-7451029337183143041.html
LOCATION:Konstanz Konzertmuschel
GEO:47.662669;9.179241
URL:https://eventfrog.de/de/p/konzerte/sydra-7451029337183143041.html
END:VEVENT
END:VCALENDAR