BEGIN:VCALENDAR
VERSION:2.0
PRODID:EVENTFROG//EVENT//ICAL
BEGIN:VEVENT
UID:20260425T193233Z-7451029338047169802@eventfrog.de
DTSTAMP:20260425T193233Z
DTSTART:20260524T133000Z
SUMMARY:Töfs Rappelkiste
DESCRIPTION:Töfs Rappelkiste\n\nhttps://eventfrog.de/de/p/konzerte/toefs-rappelkiste-7451029338047169802.html
LOCATION:Konstanz Konzertmuschel
GEO:47.662669;9.179241
URL:https://eventfrog.de/de/p/konzerte/toefs-rappelkiste-7451029338047169802.html
END:VEVENT
END:VCALENDAR