BEGIN:VCALENDAR
VERSION:2.0
PRODID:EVENTFROG//EVENT//ICAL
BEGIN:VEVENT
UID:20260420T131427Z-7451031673209150592@eventfrog.de
DTSTAMP:20260420T131427Z
DTSTART:20260425T080000Z
DTEND:20260425T093000Z
SUMMARY:Schenk mir eine Geschichte -Farsi / Dari
DESCRIPTION:Kinder ab 3 Jahren mit Muttersprache Farsi in Begleitung\n\nhttps://eventfrog.de/de/p/diverses/schenk-mir-eine-geschichte-farsi-dari-7451031673209150592.html
LOCATION:tiRumpel
GEO:47.420944;9.356495
URL:https://eventfrog.de/de/p/diverses/schenk-mir-eine-geschichte-farsi-dari-7451031673209150592.html
END:VEVENT
END:VCALENDAR