BEGIN:VCALENDAR
VERSION:2.0
PRODID:EVENTFROG//EVENT//ICAL
BEGIN:VEVENT
UID:20260419T164954Z-7451031763038509541@eventfrog.de
DTSTAMP:20260419T164954Z
DTSTART:20260522T190000Z
DTEND:20260522T215500Z
SUMMARY:Eltern John
DESCRIPTION:Rock- & Oldies-Disco mit Jüre Hofer\n\nhttps://eventfrog.de/de/p/partys/pop-rock/eltern-john-7451031763038509541.html
LOCATION:Bären Buchsi
GEO:47.021500;7.450800
URL:https://eventfrog.de/de/p/partys/pop-rock/eltern-john-7451031763038509541.html
END:VEVENT
END:VCALENDAR