BEGIN:VCALENDAR
VERSION:2.0
PRODID:EVENTFROG//EVENT//ICAL
BEGIN:VEVENT
UID:20260426T021123Z-7451179678604235806@eventfrog.de
DTSTAMP:20260426T021123Z
DTSTART:20260702T180000Z
DTEND:20260702T200000Z
SUMMARY:Amal - Balkan
DESCRIPTION:Amal - Balkan\nAnna Gruber	 - Posaune\nRegina Hui - Geige, Stimme\nRoberto Vacca - Akkordeon, Stimme\nSamuel Freiburghaus - Taragot, Klarinette, Flöten, Stimme\nGast: Sorin Gheraliu - Cymbal\n\nhttps://eventfrog.de/de/p/konzerte/folk/amal-balkan-7451179678604235806.html
LOCATION:Dimensione
GEO:47.499441;8.732479
URL:https://eventfrog.de/de/p/konzerte/folk/amal-balkan-7451179678604235806.html
END:VEVENT
END:VCALENDAR