BEGIN:VCALENDAR
VERSION:2.0
PRODID:EVENTFROG//EVENT//ICAL
BEGIN:VEVENT
UID:20260420T131425Z-7451200324814014462@eventfrog.de
DTSTAMP:20260420T131425Z
DTSTART:20260517T140000Z
DTEND:20260517T160000Z
SUMMARY:9D Breathwork - Neu Start
DESCRIPTION:9D Breathwork ist eine revolutionäre Fusion aus alten Atemtechniken und modernster Soundtechnologie entwickelt.\n\nhttps://eventfrog.de/en/p/health-spirituality/health-wellbeing/9d-breathwork-neu-start-7451200324814014462.html
LOCATION:Radiant Heart Studio
GEO:47.360208;8.521662
URL:https://eventfrog.de/en/p/health-spirituality/health-wellbeing/9d-breathwork-neu-start-7451200324814014462.html
END:VEVENT
END:VCALENDAR