BEGIN:VCALENDAR
VERSION:2.0
PRODID:EVENTFROG//EVENT//ICAL
BEGIN:VEVENT
UID:20260421T163246Z-7451236191804886598@eventfrog.de
DTSTAMP:20260421T163246Z
DTSTART:20260418T121200Z
DTEND:20260418T121800Z
SUMMARY:Party Party
DESCRIPTION:Party Party Party\n\nhttps://eventfrog.de/de/p/musicals-shows/show/party-party-7451236191804886598.html
LOCATION:Wird noch angekündigt
URL:https://eventfrog.de/de/p/musicals-shows/show/party-party-7451236191804886598.html
END:VEVENT
END:VCALENDAR