BEGIN:VCALENDAR
VERSION:2.0
PRODID:EVENTFROG//EVENT//ICAL
BEGIN:VEVENT
UID:20260421T194739Z-7451239947414023445@eventfrog.de
DTSTAMP:20260421T194739Z
DTSTART:20260509T113000Z
DTEND:20260509T140000Z
SUMMARY:Magic Days – Der Tag der Offenen Geheimtür
DESCRIPTION:Am 9. Mai zeigen dir Zauberprofis im Oberhafen Hamburg in Shows und Workshops, wie echte Magie funktioniert. Mit Jan Logemann, Siegfried & Joy, Malin Nilsson, Thomas Otto, Carola Kärcher, Mario Lopez\n\nhttps://eventfrog.de/de/p/kinderveranstaltungen/familienveranstaltungen/magic-days-der-tag-der-offenen-geheimtuer-7451239947414023445.html
LOCATION:Gleishalle Oberhafen
GEO:53.542754;10.008392
URL:https://eventfrog.de/de/p/kinderveranstaltungen/familienveranstaltungen/magic-days-der-tag-der-offenen-geheimtuer-7451239947414023445.html
END:VEVENT
END:VCALENDAR