BEGIN:VCALENDAR
VERSION:2.0
PRODID:EVENTFROG//EVENT//ICAL
BEGIN:VEVENT
UID:20260419T160942Z-7451250807826027694@eventfrog.de
DTSTAMP:20260419T160942Z
DTSTART:20260519T161500Z
DTEND:20260519T190000Z
SUMMARY:Krisenmanagement neu fokussiert: Expert:innen berichten
DESCRIPTION:Fortbildung und Networking: Topexpert:innen aus dem In- und Ausland berichten über ihre Erfahrungen aus realen Ereignis- und Krisenlagen.\n\nhttps://eventfrog.de/en/p/courses-seminars/business/krisenmanagement-neu-fokussiert-expert-innen-berichten-7451250807826027694.html
LOCATION:Resident Zürich, Kreuzstrasse 24
GEO:47.362724;8.548895
URL:https://eventfrog.de/en/p/courses-seminars/business/krisenmanagement-neu-fokussiert-expert-innen-berichten-7451250807826027694.html
END:VEVENT
END:VCALENDAR