BEGIN:VCALENDAR
VERSION:2.0
PRODID:EVENTFROG//EVENT//ICAL
BEGIN:VEVENT
UID:20260424T085036Z-7451255465973957287@eventfrog.de
DTSTAMP:20260424T085036Z
DTSTART:20260521T173000Z
DTEND:20260521T193000Z
SUMMARY:English Standup Comedy Night Martigny
DESCRIPTION:Enjoy a standup comedy night at L'Auberge Autremont with two expat comedians, perfect to relax, laugh, and meet new people over cocktails.\n\nhttps://eventfrog.de/en/p/theatre-stage/comedy-cabaret/english-standup-comedy-night-martigny-7451255465973957287.html
LOCATION:L'Auberge Autrement
GEO:46.090735;7.064617
URL:https://eventfrog.de/en/p/theatre-stage/comedy-cabaret/english-standup-comedy-night-martigny-7451255465973957287.html
END:VEVENT
END:VCALENDAR