BEGIN:VCALENDAR
VERSION:2.0
PRODID:EVENTFROG//EVENT//ICAL
BEGIN:VEVENT
UID:20260421T163247Z-7451277620749071684@eventfrog.de
DTSTAMP:20260421T163247Z
DTSTART:20260619T190000Z
DTEND:20260619T213000Z
SUMMARY:NACHTFLIMMERN Pop - Chansons mit Sebastian Maihs und  Oleksi
DESCRIPTION:Sebastian Maihs und Oleksii Aleinikov entführen mit Pop, Chansons und Musical zu einer facettenreichen Reise durch die Nacht.\n\nhttps://eventfrog.de/de/p/konzerte/weitere-musikrichtungen/nachtflimmern-pop-chansons-mit-sebastian-maihs-und-oleksi-7451277620749071684.html
LOCATION:Rauschgold
GEO:52.490963;13.386285
URL:https://eventfrog.de/de/p/konzerte/weitere-musikrichtungen/nachtflimmern-pop-chansons-mit-sebastian-maihs-und-oleksi-7451277620749071684.html
END:VEVENT
END:VCALENDAR