BEGIN:VCALENDAR
VERSION:2.0
PRODID:EVENTFROG//EVENT//ICAL
BEGIN:VEVENT
UID:20260420T084835Z-7451322654642934563@eventfrog.de
DTSTAMP:20260420T084835Z
DTSTART:20260813T180000Z
SUMMARY:„La Fiesta Musica“ - Bläserensemble EmBRASSment Leipzig
DESCRIPTION:emBRASSment spielt vielfältige Blechbläsermusik von Monteverdi bis ABBA und pflegt engen Kontakt zu Konzertgästen.\n\nhttps://eventfrog.de/de/p/konzerte/blasmusik/la-fiesta-musica-blaeserensemble-embrassment-leipzig-7451322654642934563.html
LOCATION:Kirche St. Michaelis Sagard
GEO:54.526626;13.555915
URL:https://eventfrog.de/de/p/konzerte/blasmusik/la-fiesta-musica-blaeserensemble-embrassment-leipzig-7451322654642934563.html
END:VEVENT
END:VCALENDAR