BEGIN:VCALENDAR
VERSION:2.0
PRODID:EVENTFROG//EVENT//ICAL
BEGIN:VEVENT
UID:20260420T122213Z-7451326687353023731@eventfrog.de
DTSTAMP:20260420T122213Z
DTSTART:20260627T140000Z
DTEND:20260627T170000Z
SUMMARY:Vollmond Ritual Yin-Yoga
DESCRIPTION:Der Vollmond-Abend mit Yin Yoga, Kakaozeremonie und geführter Meditation bringt innere Ruhe, Klarheit und Balance.\n\nhttps://eventfrog.de/de/p/gesundheit-spiritualitaet/gesundheit-wohlbefinden/vollmond-ritual-yin-yoga-7451326687353023731.html
LOCATION:Waldhütte Kooperation 4Höfe
GEO:47.466367;9.512423
URL:https://eventfrog.de/de/p/gesundheit-spiritualitaet/gesundheit-wohlbefinden/vollmond-ritual-yin-yoga-7451326687353023731.html
END:VEVENT
END:VCALENDAR