BEGIN:VCALENDAR
VERSION:2.0
PRODID:EVENTFROG//EVENT//ICAL
BEGIN:VEVENT
UID:20260424T092148Z-7451333825110517151@eventfrog.de
DTSTAMP:20260424T092148Z
DTSTART:20260905T160000Z
DTEND:20260905T210000Z
SUMMARY:60 Jahre Filmklub Wohlen
DESCRIPTION:Am 60-Jahre-Jubiläum gibt es Apéro, Filmvorführung und Abendessen im Chappelehof, Tickets CHF 35 nur online erhältlich.\n\nhttps://eventfrog.de/de/p/diverses/60-jahre-filmklub-wohlen-7451333825110517151.html
LOCATION:Chappelehof
GEO:47.352389;8.277946
URL:https://eventfrog.de/de/p/diverses/60-jahre-filmklub-wohlen-7451333825110517151.html
END:VEVENT
END:VCALENDAR