BEGIN:VCALENDAR
VERSION:2.0
PRODID:EVENTFROG//EVENT//ICAL
BEGIN:VEVENT
UID:20260420T051420Z-7451338793540437351@eventfrog.de
DTSTAMP:20260420T051420Z
DTSTART:20261031T191500Z
DTEND:20261031T210000Z
SUMMARY:Verso il Sole - Ein tragikomischer Roadtrip ins Tessin
DESCRIPTION:Nina Dimitri, Silvana Gargiulo und Nicole Knuth laden zu einer zweisprachigen Kulturreise mit Musik, Kunst, Literatur und Tanz ein.\n\nhttps://eventfrog.de/de/p/theater-buehne/theater/verso-il-sole-ein-tragikomischer-roadtrip-ins-tessin-7451338793540437351.html
LOCATION:Kleintheater Somehuus
GEO:47.172200;8.109910
URL:https://eventfrog.de/de/p/theater-buehne/theater/verso-il-sole-ein-tragikomischer-roadtrip-ins-tessin-7451338793540437351.html
END:VEVENT
END:VCALENDAR