BEGIN:VCALENDAR
VERSION:2.0
PRODID:EVENTFROG//EVENT//ICAL
BEGIN:VEVENT
UID:20260420T051236Z-7451339772700685905@eventfrog.de
DTSTAMP:20260420T051236Z
DTSTART:20261107T191500Z
DTEND:20261107T210000Z
SUMMARY:Gerhard Tschan - ÜberLandSicht - eine Tour d'Horizon
DESCRIPTION:Gerhard Tschan erzählt spielerisch und musikalisch neue Geschichten zu Land, Dörfern und Alltagssituationen.\n\nhttps://eventfrog.de/de/p/theater-buehne/theater/gerhard-tschan-ueberlandsicht-eine-tour-d-horizon-7451339772700685905.html
LOCATION:Kleintheater Somehuus
GEO:47.172200;8.109910
URL:https://eventfrog.de/de/p/theater-buehne/theater/gerhard-tschan-ueberlandsicht-eine-tour-d-horizon-7451339772700685905.html
END:VEVENT
END:VCALENDAR