BEGIN:VCALENDAR
VERSION:2.0
PRODID:EVENTFROG//EVENT//ICAL
BEGIN:VEVENT
UID:20260421T151613Z-7451341345443063545@eventfrog.de
DTSTAMP:20260421T151613Z
DTSTART:20260927T150000Z
DTEND:20260927T173000Z
SUMMARY:Choir for one night
DESCRIPTION:130 Menschen bilden für einen Abend einen Chor und lernen einen einen Popsong unter der professionellen Chorleiterin Alexandra Ziegler-Liebst\n\nhttps://eventfrog.de/de/p/kurse-seminare/musik-tanz/choir-for-one-night-7451341345443063545.html
LOCATION:Aula
GEO:50.136209;8.655108
URL:https://eventfrog.de/de/p/kurse-seminare/musik-tanz/choir-for-one-night-7451341345443063545.html
END:VEVENT
END:VCALENDAR