BEGIN:VCALENDAR
VERSION:2.0
PRODID:EVENTFROG//EVENT//ICAL
BEGIN:VEVENT
UID:20260424T123533Z-7451342109666193407@eventfrog.de
DTSTAMP:20260424T123533Z
DTSTART:20261128T191500Z
DTEND:20261128T210000Z
SUMMARY:JMO - "I Nia Yelle" World, Griot, Jazz
DESCRIPTION:JMO verbindet westafrikanische Griot-Gesänge mit modernen Klängen aus Afrika, Europa und Orient zu einem unvergesslichen Musikerlebnis.\n\nhttps://eventfrog.de/de/p/konzerte/jazz-blues/jmo-i-nia-yelle-world-griot-jazz-7451342109666193407.html
LOCATION:Kleintheater Somehuus
GEO:47.172200;8.109910
URL:https://eventfrog.de/de/p/konzerte/jazz-blues/jmo-i-nia-yelle-world-griot-jazz-7451342109666193407.html
END:VEVENT
END:VCALENDAR