BEGIN:VCALENDAR
VERSION:2.0
PRODID:EVENTFROG//EVENT//ICAL
BEGIN:VEVENT
UID:20260422T063539Z-7451342729349445774@eventfrog.de
DTSTAMP:20260422T063539Z
DTSTART:20260502T213000Z
DTEND:20260502T230000Z
SUMMARY:Heimfahrt Echo der Berge
DESCRIPTION:Busfahrt vom Echo der Berge nach Salzburg\n\nhttps://eventfrog.de/en/p/parties/house-techno/heimfahrt-echo-der-berge-7451342729349445774.html
LOCATION:Busfahrt
URL:https://eventfrog.de/en/p/parties/house-techno/heimfahrt-echo-der-berge-7451342729349445774.html
END:VEVENT
END:VCALENDAR