BEGIN:VCALENDAR
VERSION:2.0
PRODID:EVENTFROG//EVENT//ICAL
BEGIN:VEVENT
UID:20260421T180249Z-7451349720394376657@eventfrog.de
DTSTAMP:20260421T180249Z
DTSTART:20261115T170000Z
DTEND:20261115T210000Z
SUMMARY:Das perfekte ABBA Dinner Berlin – Live Show & Musik
DESCRIPTION:Erlebe im Queens 45 BC das interaktive ABBA-Dinner mit Live-Hits und viel Publikumseinbindung am 15.11., 18:30 Uhr.\n\nhttps://eventfrog.de/de/p/konzerte/pop-rock/das-perfekte-abba-dinner-berlin-live-show-musik-7451349720394376657.html
LOCATION:Queens 45 BC
GEO:52.514237;13.281315
URL:https://eventfrog.de/de/p/konzerte/pop-rock/das-perfekte-abba-dinner-berlin-live-show-musik-7451349720394376657.html
END:VEVENT
END:VCALENDAR