BEGIN:VCALENDAR
VERSION:2.0
PRODID:EVENTFROG//EVENT//ICAL
BEGIN:VEVENT
UID:20260419T173041Z-7451384326183221673@eventfrog.de
DTSTAMP:20260419T173041Z
DTSTART:20260503T080000Z
SUMMARY:Dauerausstellung und Jüdisches Viertel
DESCRIPTION:Führung.\n\nhttps://eventfrog.de/de/p/wissenschaft-und-technik/dauerausstellung-und-juedisches-viertel-7451384326183221673.html
LOCATION:Jüdisches Museum
GEO:47.364721;9.688902
URL:https://eventfrog.de/de/p/wissenschaft-und-technik/dauerausstellung-und-juedisches-viertel-7451384326183221673.html
END:VEVENT
END:VCALENDAR