BEGIN:VCALENDAR
VERSION:2.0
PRODID:EVENTFROG//EVENT//ICAL
BEGIN:VEVENT
UID:20260419T172858Z-7451384326720092590@eventfrog.de
DTSTAMP:20260419T172858Z
DTSTART:20260524T080000Z
SUMMARY:Dauerausstellung und Jüdisches Viertel
DESCRIPTION:Führung.\n\nhttps://eventfrog.de/de/p/wissenschaft-und-technik/dauerausstellung-und-juedisches-viertel-7451384326720092590.html
LOCATION:Jüdisches Museum
GEO:47.364721;9.688902
URL:https://eventfrog.de/de/p/wissenschaft-und-technik/dauerausstellung-und-juedisches-viertel-7451384326720092590.html
END:VEVENT
END:VCALENDAR