BEGIN:VCALENDAR
VERSION:2.0
PRODID:EVENTFROG//EVENT//ICAL
BEGIN:VEVENT
UID:20260419T180433Z-7451384328267790793@eventfrog.de
DTSTAMP:20260419T180433Z
DTSTART:20260507T173000Z
SUMMARY:Elke-Vera Kotowski (Potsdam)
DESCRIPTION:Vortrag und Gespräch über Hedwig Klein.\n\nhttps://eventfrog.de/de/p/wissenschaft-und-technik/elke-vera-kotowski-potsdam-7451384328267790793.html
LOCATION:Jüdisches Museum
GEO:47.364721;9.688902
URL:https://eventfrog.de/de/p/wissenschaft-und-technik/elke-vera-kotowski-potsdam-7451384328267790793.html
END:VEVENT
END:VCALENDAR