BEGIN:VCALENDAR
VERSION:2.0
PRODID:EVENTFROG//EVENT//ICAL
BEGIN:VEVENT
UID:20260419T194002Z-7451385998338995150@eventfrog.de
DTSTAMP:20260419T194002Z
DTSTART:20261113T190000Z
DTEND:20261113T212000Z
SUMMARY:Simon Enzler
DESCRIPTION:Simon Enzler\n\nhttps://eventfrog.de/de/p/theater-buehne/simon-enzler-7451385998338995150.html
LOCATION:Casino Herisau
GEO:47.384656;9.278022
URL:https://eventfrog.de/de/p/theater-buehne/simon-enzler-7451385998338995150.html
END:VEVENT
END:VCALENDAR