BEGIN:VCALENDAR
VERSION:2.0
PRODID:EVENTFROG//EVENT//ICAL
BEGIN:VEVENT
UID:20260419T135603Z-7451389005759797073@eventfrog.de
DTSTAMP:20260419T135603Z
DTSTART:20260516T210000Z
SUMMARY:Mucke & Tanz: Mihai Popoviciu & Marco Berto
DESCRIPTION:Mucke & Tanz: Mihai Popoviciu & Marco Berto\n\nhttps://eventfrog.de/de/p/partys/mucke-tanz-mihai-popoviciu-marco-berto-7451389005759797073.html
LOCATION:Albani
GEO:47.498480;8.729190
URL:https://eventfrog.de/de/p/partys/mucke-tanz-mihai-popoviciu-marco-berto-7451389005759797073.html
END:VEVENT
END:VCALENDAR