BEGIN:VCALENDAR
VERSION:2.0
PRODID:EVENTFROG//EVENT//ICAL
BEGIN:VEVENT
UID:20260424T220647Z-7451389876220464656@eventfrog.de
DTSTAMP:20260424T220647Z
DTSTART:20260611T180000Z
SUMMARY:Stéphanie Berger
DESCRIPTION:Stéphanie Berger\n\nhttps://eventfrog.de/de/p/theater-buehne/stephanie-berger-7451389876220464656.html
LOCATION:Casinotheater
GEO:47.499716;8.726641
URL:https://eventfrog.de/de/p/theater-buehne/stephanie-berger-7451389876220464656.html
END:VEVENT
END:VCALENDAR