BEGIN:VCALENDAR
VERSION:2.0
PRODID:EVENTFROG//EVENT//ICAL
BEGIN:VEVENT
UID:20260424T233859Z-7451389893001875132@eventfrog.de
DTSTAMP:20260424T233859Z
DTSTART:20260620T150000Z
SUMMARY:Charles Nguela
DESCRIPTION:Charles Nguela\n\nhttps://eventfrog.de/de/p/theater-buehne/charles-nguela-7451389893001875132.html
LOCATION:Casinotheater
GEO:47.499716;8.726641
URL:https://eventfrog.de/de/p/theater-buehne/charles-nguela-7451389893001875132.html
END:VEVENT
END:VCALENDAR