BEGIN:VCALENDAR
VERSION:2.0
PRODID:EVENTFROG//EVENT//ICAL
BEGIN:VEVENT
UID:20260420T055132Z-7451390758270064879@eventfrog.de
DTSTAMP:20260420T055132Z
DTSTART:20260502T173000Z
SUMMARY:Fragments
DESCRIPTION:Tanztheater über Macht und Wut in patriarchalen Strukturen.\n\nhttps://eventfrog.de/de/p/theater-buehne/fragments-7451390758270064879.html
LOCATION:K9 Kulturzentrum
GEO:47.659907;9.171496
URL:https://eventfrog.de/de/p/theater-buehne/fragments-7451390758270064879.html
END:VEVENT
END:VCALENDAR