BEGIN:VCALENDAR
VERSION:2.0
PRODID:EVENTFROG//EVENT//ICAL
BEGIN:VEVENT
UID:20260424T054404Z-7451390933663246378@eventfrog.de
DTSTAMP:20260424T054404Z
DTSTART:20260426T130000Z
SUMMARY:Führung mit Genuss
DESCRIPTION:Führung mit Genuss\n\nhttps://eventfrog.de/de/p/wissenschaft-und-technik/fuehrung-mit-genuss-7451390933663246378.html
LOCATION:Liechtensteinisches LandesMuseum
GEO:47.138152;9.522666
URL:https://eventfrog.de/de/p/wissenschaft-und-technik/fuehrung-mit-genuss-7451390933663246378.html
END:VEVENT
END:VCALENDAR