BEGIN:VCALENDAR
VERSION:2.0
PRODID:EVENTFROG//EVENT//ICAL
BEGIN:VEVENT
UID:20260425T002406Z-7451392137445277187@eventfrog.de
DTSTAMP:20260425T002406Z
DTSTART:20260520T162000Z
SUMMARY:Vie privée
DESCRIPTION:Doppelbödige Krimikomödie mit Jodie Forster, Daniel Auteuil.\n\nhttps://eventfrog.de/de/p/freizeit-ausfluege/vie-privee-7451392137445277187.html
LOCATION:Kinok – Cinema in der Lokremise
GEO:47.421287;9.366104
URL:https://eventfrog.de/de/p/freizeit-ausfluege/vie-privee-7451392137445277187.html
END:VEVENT
END:VCALENDAR