BEGIN:VCALENDAR
VERSION:2.0
PRODID:EVENTFROG//EVENT//ICAL
BEGIN:VEVENT
UID:20260419T152709Z-7451392141463420780@eventfrog.de
DTSTAMP:20260419T152709Z
DTSTART:20260511T142000Z
SUMMARY:Siri Hustvedt – Dance Around the Self
DESCRIPTION:Bewegendes Porträt der grossen Autorin und Essayistin.\n\nhttps://eventfrog.de/de/p/freizeit-ausfluege/siri-hustvedt-dance-around-the-self-7451392141463420780.html
LOCATION:Kinok – Cinema in der Lokremise
GEO:47.421287;9.366104
URL:https://eventfrog.de/de/p/freizeit-ausfluege/siri-hustvedt-dance-around-the-self-7451392141463420780.html
END:VEVENT
END:VCALENDAR