BEGIN:VCALENDAR
VERSION:2.0
PRODID:EVENTFROG//EVENT//ICAL
BEGIN:VEVENT
UID:20260419T164955Z-7451392943586327229@eventfrog.de
DTSTAMP:20260419T164955Z
DTSTART:20260509T081500Z
DTEND:20260509T140000Z
SUMMARY:Klimaspieltag
DESCRIPTION:Klimaspieltag\n\nhttps://eventfrog.de/de/p/wissenschaft-und-technik/klimaspieltag-7451392943586327229.html
LOCATION:Roamers Galerie
GEO:47.227673;8.827331
URL:https://eventfrog.de/de/p/wissenschaft-und-technik/klimaspieltag-7451392943586327229.html
END:VEVENT
END:VCALENDAR