BEGIN:VCALENDAR
VERSION:2.0
PRODID:EVENTFROG//EVENT//ICAL
BEGIN:VEVENT
UID:20260419T165056Z-7451576064260717718@eventfrog.de
DTSTAMP:20260419T165056Z
DTSTART:20260618T120000Z
DTEND:20260618T140000Z
SUMMARY:"Darf ich bitten" Tanznachmittag für alle
DESCRIPTION:Alle sind willkommen zum ungezwungenen Tanzen, Musikhören und Kaffeegenuss mit fachkundiger Unterstützung.\n\nhttps://eventfrog.de/de/p/partys/ball-gala/darf-ich-bitten-tanznachmittag-fuer-alle-7451576064260717718.html
LOCATION:Freizeitanlage Kanzleistrasse
GEO:47.484628;8.763770
URL:https://eventfrog.de/de/p/partys/ball-gala/darf-ich-bitten-tanznachmittag-fuer-alle-7451576064260717718.html
END:VEVENT
END:VCALENDAR