BEGIN:VCALENDAR
VERSION:2.0
PRODID:EVENTFROG//EVENT//ICAL
BEGIN:VEVENT
UID:20260421T173345Z-7451580537074903159@eventfrog.de
DTSTAMP:20260421T173345Z
DTSTART:20270306T180000Z
DTEND:20270306T220000Z
SUMMARY:Das perfekte ABBA Dinner Hildesheim – Live Show & Musik
DESCRIPTION:Im Van der Valk Hildesheim wird man Teil einer interaktiven ABBA-Dinnershow mit Live-Musik, Geschichten und den grössten Hits.\n\nhttps://eventfrog.de/de/p/musicals-shows/show/das-perfekte-abba-dinner-hildesheim-live-show-musik-7451580537074903159.html
LOCATION:Van der Valk Hotel
GEO:52.153385;9.951688
URL:https://eventfrog.de/de/p/musicals-shows/show/das-perfekte-abba-dinner-hildesheim-live-show-musik-7451580537074903159.html
END:VEVENT
END:VCALENDAR