BEGIN:VCALENDAR
VERSION:2.0
PRODID:EVENTFROG//EVENT//ICAL
BEGIN:VEVENT
UID:20260419T173104Z-7451588627497225912@eventfrog.de
DTSTAMP:20260419T173104Z
DTSTART:20261017T180000Z
DTEND:20261017T200000Z
SUMMARY:Nacht des offenen Daches – Jura-Sternwarte Grenchen
DESCRIPTION:Die Jura-Sternwarte Grenchen öffnet ihre Türen für die Öffentlichkeit und ermöglicht faszinierende Einblicke in den Nachthimmel. Beobachten Sie Sterne und Planeten – kostenlos und ohne Anmeldung.\n\nhttps://eventfrog.de/de/p/wissenschaft-und-technik/nacht-des-offenen-daches-jura-sternwarte-grenchen-7451588627497225912.html
LOCATION:Jurasternwarte Grenchen
GEO:47.221411;7.380610
URL:https://eventfrog.de/de/p/wissenschaft-und-technik/nacht-des-offenen-daches-jura-sternwarte-grenchen-7451588627497225912.html
END:VEVENT
END:VCALENDAR